BEGIN:VCALENDAR
VERSION:2.0
PRODID:-//YourOrg//Team Calendar//EN
CALSCALE:GREGORIAN
METHOD:PUBLISH
X-WR-CALNAME:ÍR-Píurnar – dagskrá KLÍ
X-WR-TIMEZONE:UTC
BEGIN:VEVENT
UID:28705@www.kli.is
DTSTAMP:20260419T141619Z
DTSTART:20260420T190000Z
DTEND:20260420T220000Z
SUMMARY:ÍR-Píurnar vs ÍA-Meyjur
LOCATION:Keiluhöllin Egilshöll
CATEGORIES:20261KVU
DESCRIPTION:Keppni: Úrslit 1. deildar kvenna\, 1. umferð\nOlíuburður: D
 eild - Miðlungs burður 2025 - 2026
END:VEVENT
BEGIN:VEVENT
UID:28705@www.kli.is
DTSTAMP:20260419T141619Z
DTSTART:20260420T190000Z
DTEND:20260420T220000Z
SUMMARY:ÍR-Píurnar vs ÍA-Meyjur
LOCATION:Keiluhöllin Egilshöll
CATEGORIES:20261KVU
DESCRIPTION:Keppni: Úrslit 1. deildar kvenna\, 1. umferð\nOlíuburður: D
 eild - Miðlungs burður 2025 - 2026
END:VEVENT
BEGIN:VEVENT
UID:28707@www.kli.is
DTSTAMP:20260419T141619Z
DTSTART:20260421T190000Z
DTEND:20260421T220000Z
SUMMARY:ÍA-Meyjur vs ÍR-Píurnar
LOCATION:Keilusalurinn Akranesi
CATEGORIES:20261KVU
DESCRIPTION:Keppni: Úrslit 1. deildar kvenna\, 2. umferð\nOlíuburður: D
 eild - Miðlungs burður 2025 - 2026
END:VEVENT
BEGIN:VEVENT
UID:28707@www.kli.is
DTSTAMP:20260419T141619Z
DTSTART:20260421T190000Z
DTEND:20260421T220000Z
SUMMARY:ÍA-Meyjur vs ÍR-Píurnar
LOCATION:Keilusalurinn Akranesi
CATEGORIES:20261KVU
DESCRIPTION:Keppni: Úrslit 1. deildar kvenna\, 2. umferð\nOlíuburður: D
 eild - Miðlungs burður 2025 - 2026
END:VEVENT
END:VCALENDAR
