BEGIN:VCALENDAR
VERSION:2.0
PRODID:-//YourOrg//Team Calendar//EN
CALSCALE:GREGORIAN
METHOD:PUBLISH
X-WR-CALNAME:ÍA-C – dagskrá KLÍ
X-WR-TIMEZONE:UTC
BEGIN:VEVENT
UID:28727@www.kli.is
DTSTAMP:20260424T042348Z
DTSTART:20260426T120000Z
DTEND:20260426T150000Z
SUMMARY:ÍA-C vs ÍR-Splitturnar þrjár
LOCATION:Keilusalurinn Akranesi
CATEGORIES:20262DKUS
DESCRIPTION:Keppni: Umspil um sæti í 2. deild karla\, 2. umferð\nOlíubu
 rður: Deild - Miðlungs burður 2025 - 2026
END:VEVENT
BEGIN:VEVENT
UID:28727@www.kli.is
DTSTAMP:20260424T042348Z
DTSTART:20260426T120000Z
DTEND:20260426T150000Z
SUMMARY:ÍA-C vs ÍR-Splitturnar þrjár
LOCATION:Keilusalurinn Akranesi
CATEGORIES:20262DKUS
DESCRIPTION:Keppni: Umspil um sæti í 2. deild karla\, 2. umferð\nOlíubu
 rður: Deild - Miðlungs burður 2025 - 2026
END:VEVENT
END:VCALENDAR
